BEGIN:VCALENDAR
VERSION:2.0
PRODID:-// - ECPv6.15.20//NONSGML v1.0//EN
CALSCALE:GREGORIAN
METHOD:PUBLISH
X-ORIGINAL-URL:https://www.cavaliercowboys.org
X-WR-CALDESC:Events for 
REFRESH-INTERVAL;VALUE=DURATION:PT1H
X-Robots-Tag:noindex
X-PUBLISHED-TTL:PT1H
BEGIN:VTIMEZONE
TZID:America/New_York
BEGIN:DAYLIGHT
TZOFFSETFROM:-0500
TZOFFSETTO:-0400
TZNAME:EDT
DTSTART:20250309T070000
END:DAYLIGHT
BEGIN:STANDARD
TZOFFSETFROM:-0400
TZOFFSETTO:-0500
TZNAME:EST
DTSTART:20251102T060000
END:STANDARD
BEGIN:DAYLIGHT
TZOFFSETFROM:-0500
TZOFFSETTO:-0400
TZNAME:EDT
DTSTART:20260308T070000
END:DAYLIGHT
BEGIN:STANDARD
TZOFFSETFROM:-0400
TZOFFSETTO:-0500
TZNAME:EST
DTSTART:20261101T060000
END:STANDARD
BEGIN:DAYLIGHT
TZOFFSETFROM:-0500
TZOFFSETTO:-0400
TZNAME:EDT
DTSTART:20270314T070000
END:DAYLIGHT
BEGIN:STANDARD
TZOFFSETFROM:-0400
TZOFFSETTO:-0500
TZNAME:EST
DTSTART:20271107T060000
END:STANDARD
END:VTIMEZONE
BEGIN:VEVENT
DTSTART;TZID=America/New_York:20260415T090000
DTEND;TZID=America/New_York:20260415T160000
DTSTAMP:20260424T051031
CREATED:20251214T195425Z
LAST-MODIFIED:20251214T195425Z
UID:9660-1776243600-1776268800@www.cavaliercowboys.org
SUMMARY:3rd Wednesday Match - 4/15/2026
DESCRIPTION:Match will start at 11:00am\, the gates will be open from 9:00am till 10:45 am\, registration will run from 9:30 until 10:30 and the mandatory safety meeting is at 10:45am.\nPlease register at Kubaville (lower range) as soon as you arrive.  Sign-up sheet will be on the picnic table.\nFirst shot down range will be at 11:00 am.
URL:https://www.cavaliercowboys.org/event/3rd-wednesday-match-4-15-2026/
LOCATION:Cavalier Rifle and Pistol Club\, 14151 Boondock Lane\, Montpelier\, VA\, 23192\, United States
CATEGORIES:3rd Wednesday Match
ORGANIZER;CN="Cavalier Cowboys":MAILTO:cavaliercowboys@gmail.com
END:VEVENT
BEGIN:VEVENT
DTSTART;TZID=America/New_York:20260405T000000
DTEND;TZID=America/New_York:20260405T235959
DTSTAMP:20260424T051031
CREATED:20251214T200655Z
LAST-MODIFIED:20251214T200655Z
UID:9676-1775347200-1775433599@www.cavaliercowboys.org
SUMMARY:Easter Sunday -4/5/2026 - No Match
DESCRIPTION:In observance of Easter Sunday\, there will be no 1st Sunday match. \nHe is not here; for He is risen\, as He said. Come\, see the place where the Lord lay. \nMatthew 28:6
URL:https://www.cavaliercowboys.org/event/easter-sunday-4-5-2026-no-match/
CATEGORIES:1st Sunday Match
END:VEVENT
END:VCALENDAR