BEGIN:VCALENDAR
VERSION:2.0
PRODID:-// - ECPv6.15.20//NONSGML v1.0//EN
CALSCALE:GREGORIAN
METHOD:PUBLISH
X-ORIGINAL-URL:https://www.cavaliercowboys.org
X-WR-CALDESC:Events for 
REFRESH-INTERVAL;VALUE=DURATION:PT1H
X-Robots-Tag:noindex
X-PUBLISHED-TTL:PT1H
BEGIN:VTIMEZONE
TZID:America/New_York
BEGIN:DAYLIGHT
TZOFFSETFROM:-0500
TZOFFSETTO:-0400
TZNAME:EDT
DTSTART:20250309T070000
END:DAYLIGHT
BEGIN:STANDARD
TZOFFSETFROM:-0400
TZOFFSETTO:-0500
TZNAME:EST
DTSTART:20251102T060000
END:STANDARD
BEGIN:DAYLIGHT
TZOFFSETFROM:-0500
TZOFFSETTO:-0400
TZNAME:EDT
DTSTART:20260308T070000
END:DAYLIGHT
BEGIN:STANDARD
TZOFFSETFROM:-0400
TZOFFSETTO:-0500
TZNAME:EST
DTSTART:20261101T060000
END:STANDARD
BEGIN:DAYLIGHT
TZOFFSETFROM:-0500
TZOFFSETTO:-0400
TZNAME:EDT
DTSTART:20270314T070000
END:DAYLIGHT
BEGIN:STANDARD
TZOFFSETFROM:-0400
TZOFFSETTO:-0500
TZNAME:EST
DTSTART:20271107T060000
END:STANDARD
END:VTIMEZONE
BEGIN:VEVENT
DTSTART;TZID=America/New_York:20260904T000000
DTEND;TZID=America/New_York:20260906T235959
DTSTAMP:20260422T171034
CREATED:20251212T002727Z
LAST-MODIFIED:20251212T003726Z
UID:9649-1788480000-1788739199@www.cavaliercowboys.org
SUMMARY:2026 SASS VA State Cowboy Action Shooting Championship
DESCRIPTION:Stay tuned for more details
URL:https://www.cavaliercowboys.org/event/2026-sass-va-state-cowboy-action-shooting-championship/
LOCATION:Cavalier Rifle and Pistol Club\, 14151 Boondock Lane\, Montpelier\, VA\, 23192\, United States
CATEGORIES:VA State Championship Match
ORGANIZER;CN="Cavalier Cowboys":MAILTO:cavaliercowboys@gmail.com
END:VEVENT
END:VCALENDAR